BEGIN:VCALENDAR
VERSION:2.0
PRODID:-//Planinski Muzej - ECPv6.15.20//NONSGML v1.0//EN
CALSCALE:GREGORIAN
METHOD:PUBLISH
X-WR-CALNAME:Planinski Muzej
X-ORIGINAL-URL:https://planinskimuzej.si
X-WR-CALDESC:Dogodki za Planinski Muzej
REFRESH-INTERVAL;VALUE=DURATION:PT1H
X-Robots-Tag:noindex
X-PUBLISHED-TTL:PT1H
BEGIN:VTIMEZONE
TZID:Europe/Ljubljana
BEGIN:DAYLIGHT
TZOFFSETFROM:+0100
TZOFFSETTO:+0200
TZNAME:CEST
DTSTART:20250330T010000
END:DAYLIGHT
BEGIN:STANDARD
TZOFFSETFROM:+0200
TZOFFSETTO:+0100
TZNAME:CET
DTSTART:20251026T010000
END:STANDARD
BEGIN:DAYLIGHT
TZOFFSETFROM:+0100
TZOFFSETTO:+0200
TZNAME:CEST
DTSTART:20260329T010000
END:DAYLIGHT
BEGIN:STANDARD
TZOFFSETFROM:+0200
TZOFFSETTO:+0100
TZNAME:CET
DTSTART:20261025T010000
END:STANDARD
BEGIN:DAYLIGHT
TZOFFSETFROM:+0100
TZOFFSETTO:+0200
TZNAME:CEST
DTSTART:20270328T010000
END:DAYLIGHT
BEGIN:STANDARD
TZOFFSETFROM:+0200
TZOFFSETTO:+0100
TZNAME:CET
DTSTART:20271031T010000
END:STANDARD
END:VTIMEZONE
BEGIN:VEVENT
DTSTART;TZID=Europe/Ljubljana:20260428T180000
DTEND;TZID=Europe/Ljubljana:20260428T190000
DTSTAMP:20260422T115838
CREATED:20260421T121121Z
LAST-MODIFIED:20260421T121436Z
UID:50152-1777399200-1777402800@planinskimuzej.si
SUMMARY:Vodenje po razstavi Stolp nas gleda z Marjeto Klemenc
DESCRIPTION:V torek\, 28. aprila 2026\, ob 18. uri vas vabimo na vodenje po razstavi Stolp nas gleda. Z nami bo Marjeta Klemenc\, novinarka in gornica\, ki jo navdihujejo Julijci\, a rada seže tudi po vrhovih čez mejo\, vse do Nepala\, ki ima rada stene\, gozd\, naravo nasploh\, a beži od obleganih poti. V gorah\, kjer je pogosto tudi službeno\, ne išče presežkov\, ampak mir in razgled.\nZ nami bo delila svoje zgodbe iz gorniških potepanj in zgodbe povezane z Aljaževim stolpom.\nVstopnina: 5 eur
URL:https://planinskimuzej.si/dogodki/vodenje-po-razstavi-stolp-nas-gleda-z-marjeto-klemenc/
CATEGORIES:Muzejski večer
ATTACH;FMTTYPE=image/jpeg:https://planinskimuzej.si/wp-content/uploads/2026/04/IMG_0396-scaled.jpg
END:VEVENT
BEGIN:VEVENT
DTSTART;TZID=Europe/Ljubljana:20260506T180000
DTEND;TZID=Europe/Ljubljana:20260506T190000
DTSTAMP:20260422T115838
CREATED:20260422T091054Z
LAST-MODIFIED:20260422T091054Z
UID:50167-1778090400-1778094000@planinskimuzej.si
SUMMARY:Planinstvo in Češka koča – trajna vez češko - slovenskega sodelovanja\, odprtje razstave
DESCRIPTION:Ustanova Avgusta Delavca v sodelovanju z Gornjesavskim muzejem Jesenice – Slovenskim planinskim muzejem in Veleposlaništvom Češke republike v Sloveniji vabi v sredo\, 6. maja 2026\, ob 18. uri v Slovenski planinski muzej na slovesno odprtje razstave Ladislava Jiráska Češko- slovensko planinsko sodelovanje – združeno s prikazom filma o Češki koči. \nNa prireditvi bodo o češki podružnici Slovenskega planinskega društva\, oblikovanju razstave ter nastajanju filma o Češki koči ter njenem simbolnem pomenu za preteklo in sedanje češko -slovensko planinsko sodelovanje spregovorili Miro Eržen – predsednik uprave Ustanove Avgusta Delavca\, Ladislav Jirásko -avtor razstave in filma ter Andrej Karničar – župan občine Jezersko. \nRazstavo bo odprl veleposlanik Češke Republike v Sloveniji Nj. Eksc. Jiři Kuděla. \nVljudno vabljeni!
URL:https://planinskimuzej.si/dogodki/planinstvo-in-ceska-koca-trajna-vez-cesko-slovenskega-sodelovanja-odprtje-razstave/
LOCATION:Dvorana Triglav\, Triglavska cesta 49\, 4281 Mojstrana\, Slovenia
CATEGORIES:Muzejski večer,Občasne razstave
ATTACH;FMTTYPE=image/jpeg:https://planinskimuzej.si/wp-content/uploads/2026/04/Kopija-izdelka-SPLETNA-STRAN-TEMPLATE-FOR-PHOTO-5.jpg
END:VEVENT
END:VCALENDAR