BEGIN:VCALENDAR
VERSION:2.0
PRODID:-//Planinski Muzej - ECPv6.15.20//NONSGML v1.0//EN
CALSCALE:GREGORIAN
METHOD:PUBLISH
X-ORIGINAL-URL:https://planinskimuzej.si
X-WR-CALDESC:Dogodki za Planinski Muzej
REFRESH-INTERVAL;VALUE=DURATION:PT1H
X-Robots-Tag:noindex
X-PUBLISHED-TTL:PT1H
BEGIN:VTIMEZONE
TZID:Europe/Ljubljana
BEGIN:DAYLIGHT
TZOFFSETFROM:+0100
TZOFFSETTO:+0200
TZNAME:CEST
DTSTART:20250330T010000
END:DAYLIGHT
BEGIN:STANDARD
TZOFFSETFROM:+0200
TZOFFSETTO:+0100
TZNAME:CET
DTSTART:20251026T010000
END:STANDARD
BEGIN:DAYLIGHT
TZOFFSETFROM:+0100
TZOFFSETTO:+0200
TZNAME:CEST
DTSTART:20260329T010000
END:DAYLIGHT
BEGIN:STANDARD
TZOFFSETFROM:+0200
TZOFFSETTO:+0100
TZNAME:CET
DTSTART:20261025T010000
END:STANDARD
BEGIN:DAYLIGHT
TZOFFSETFROM:+0100
TZOFFSETTO:+0200
TZNAME:CEST
DTSTART:20270328T010000
END:DAYLIGHT
BEGIN:STANDARD
TZOFFSETFROM:+0200
TZOFFSETTO:+0100
TZNAME:CET
DTSTART:20271031T010000
END:STANDARD
END:VTIMEZONE
BEGIN:VEVENT
DTSTART;TZID=Europe/Ljubljana:20260216T090000
DTEND;TZID=Europe/Ljubljana:20260218T120000
DTSTAMP:20260426T053453
CREATED:20260123T131833Z
LAST-MODIFIED:20260123T133122Z
UID:49353-1771232400-1771416000@planinskimuzej.si
SUMMARY:Zimske počitniške ustvarjalnice\, 16. - 18. 2. 2026\, ob 9. uri
DESCRIPTION:Ponedeljek\, 16. 2.\, od 9. do 12. ure\nSkrivnostne snežinke ❄️ \nKako nastane sneg? Kakšne oblike imajo snežinke in koliko jih mora pasti\, da se travnik obarva belo? Na ta in še mnoga druga vprašanja bomo skupaj iskali odgovore s profesorjem fizike. Delavnica bo preplet raziskovanja\, razmišljanja in ustvarjalnosti – izdelali bomo umetni sneg ter svoje snežinke.Delavnico vodita Goran Ilič\, učitelj fizike\, in Natalija Štular\, kustosinja pedagoginja v Slovenskem planinskem muzeju. \n\nTorek\, 17. 2.\, od 9. do 12. ure\nVedno prijetno in domače – diorama 🛖 \nNajbližja koča našemu Triglavu je Triglavski dom na Kredarici\, ki letos praznuje že 130 let. Spoznali bomo njegovo zgodbo\, razloge za nastanek in pomen planinskih koč v gorah. V ustvarjalnem delu delavnice bomo izdelali zanimivo dioramo doma ter spoznali različne ideje za oblikovanje dreves\, gora in hiš.Delavnico vodi Natalija Štular\, kustosinja pedagoginja v Slovenskem planinskem muzeju. \n\nSreda\, 18. 2.\, od 9. do 12. ure\nBonton v koči\, copati in čepice 🥾 \nPlaninske koče so prostori\, za katere skrbijo njihovi gospodarji\, a tudi mi – obiskovalci. Marsikatera koča stoji že več kot sto let\, zato bomo spregovorili o tem\, kako lahko z odgovornim ravnanjem prispevamo k njihovi ohranjenosti. V ustvarjalnem delu delavnice bomo izdelali planinske čepice in copate.Delavnico vodi Natalija Štular\, kustosinja pedagoginja v Slovenskem planinskem muzeju. \nDelavnice so primerne za družine in otroke od 6. leta starosti\, za mlajše pa v spremstvu starejših oseb. \nCena posamezne delavnice: 6 eur/osebo \nDodatne informacije: 08 380 67 32 oziroma neli.stular@planinskimuzej.si (Natalija Štular) ali \n08 380 67 30 oziroma info@planinskimuzej.si (recepcija) \nOrganizatorji si pridružujemo pravico do spremembe programa. \nSE VIDIMO V MUZEJU! \n 
URL:https://planinskimuzej.si/dogodki/zimske-pocitniske-ustvarjalnice-16-18-2-2026-ob-9-uri/
CATEGORIES:Delavnice
ATTACH;FMTTYPE=image/png:https://planinskimuzej.si/wp-content/uploads/2026/01/NEDELJA-22.-2.-2026.png
END:VEVENT
BEGIN:VEVENT
DTSTART;TZID=Europe/Ljubljana:20260220T180000
DTEND;TZID=Europe/Ljubljana:20260220T190000
DTSTAMP:20260426T053453
CREATED:20260421T094533Z
LAST-MODIFIED:20260421T094533Z
UID:50147-1771610400-1771614000@planinskimuzej.si
SUMMARY:Izkušnja dediščine v praksi
DESCRIPTION:Vljudno vabljeni na predstavitev mednarodnega projekta Inherit – Izkušnja dediščine v praksi.
URL:https://planinskimuzej.si/dogodki/izkusnja-dediscine-v-praksi/
CATEGORIES:Arhiv dogodkov
ATTACH;FMTTYPE=image/jpeg:https://planinskimuzej.si/wp-content/uploads/2026/04/240611_naverigi_mejovsek_ski1.jpg
END:VEVENT
BEGIN:VEVENT
DTSTART;TZID=Europe/Ljubljana:20260223T180000
DTEND;TZID=Europe/Ljubljana:20260223T190000
DTSTAMP:20260426T053453
CREATED:20260211T085121Z
LAST-MODIFIED:20260211T121840Z
UID:49507-1771869600-1771873200@planinskimuzej.si
SUMMARY:Bralni klub Beremo gore\, sezona 2026
DESCRIPTION:Bralni klub za ljubitelje gora\, ki želijo\, da jih višave spremljajo tudi v dolini.  \nV letu 2026 vstopamo že v četrto sezono bralnega kluba Beremo gore\, ki živi pod streho Slovenskega planinskega muzeja v Mojstrani\, finančno pa ga omogoča Alpska konvencija. Snovalki programa in moderatorki bralnega kluba sta Irena Cerar in Mojca Volkar Trobevšek\, literarni komparativistki\, gorniški publicistki in strastni bralki. Bralni klub je namenjen vsem\, ki poleg obiskovanja gorskega sveta radi sežejo po dobri knjigi\, a tudi k sočloveku: bistvo naših srečevanj je sproščen pogovor\, izmenjava mnenj\, vtisov in razmišljanj o prebranem. \nDvakrat letno pripravimo muzejski večer\, ko nas obiščejo (pre)brani ustvarjalci in ustvarjalke\, včasih si ogledamo film\, povezan z njihovim delom\, ali prisluhnemo glasbi. \nKako deluje?\nBralna srečanja potekajo ob ponedeljkih\, javni prireditvi v okviru muzejskih večerov pa ob petkih. Najraje imamo\, če se nam pridružite na začetku letnega ciklusa\, a dobrodošli ste kadarkoli. Za udeležbo na bralnem klubu so potrebne predhodne prijave na naslov:\nneli.stular@planinskimuzej.si / info@planinskimuzej.si ali 08 380 67 30 / 32. \nUdeležba je brezplačna. \nProgram sezone 2026 \n  \n  \n 
URL:https://planinskimuzej.si/dogodki/bralni-klub-beremo-gore-sezona-2026/
CATEGORIES:Bralni klub
ATTACH;FMTTYPE=image/jpeg:https://planinskimuzej.si/wp-content/uploads/2026/02/NEDELJA-22.-2.-2026-4.jpg
END:VEVENT
END:VCALENDAR